BEGIN:VCALENDAR
VERSION:2.0
PRODID:-//Macon County Conservation District - ECPv6.15.20//NONSGML v1.0//EN
CALSCALE:GREGORIAN
METHOD:PUBLISH
X-WR-CALNAME:Macon County Conservation District
X-ORIGINAL-URL:https://www.maconccd.org
X-WR-CALDESC:Events for Macon County Conservation District
REFRESH-INTERVAL;VALUE=DURATION:PT1H
X-Robots-Tag:noindex
X-PUBLISHED-TTL:PT1H
BEGIN:VTIMEZONE
TZID:America/Chicago
BEGIN:DAYLIGHT
TZOFFSETFROM:-0600
TZOFFSETTO:-0500
TZNAME:CDT
DTSTART:20250309T080000
END:DAYLIGHT
BEGIN:STANDARD
TZOFFSETFROM:-0500
TZOFFSETTO:-0600
TZNAME:CST
DTSTART:20251102T070000
END:STANDARD
BEGIN:DAYLIGHT
TZOFFSETFROM:-0600
TZOFFSETTO:-0500
TZNAME:CDT
DTSTART:20260308T080000
END:DAYLIGHT
BEGIN:STANDARD
TZOFFSETFROM:-0500
TZOFFSETTO:-0600
TZNAME:CST
DTSTART:20261101T070000
END:STANDARD
BEGIN:DAYLIGHT
TZOFFSETFROM:-0600
TZOFFSETTO:-0500
TZNAME:CDT
DTSTART:20270314T080000
END:DAYLIGHT
BEGIN:STANDARD
TZOFFSETFROM:-0500
TZOFFSETTO:-0600
TZNAME:CST
DTSTART:20271107T070000
END:STANDARD
END:VTIMEZONE
BEGIN:VEVENT
DTSTART;TZID=America/Chicago:20260221T140000
DTEND;TZID=America/Chicago:20260221T150000
DTSTAMP:20260424T055536
CREATED:20251030T205451Z
LAST-MODIFIED:20251104T144215Z
UID:10001398-1771682400-1771686000@www.maconccd.org
SUMMARY:Decatur’s First Photographers
DESCRIPTION:Event details\nSeveral professional photographers briefly stopped in or called Decatur their home in the years before and during the Civil War. Learn about their history as we discover our first local photographers\, find evidence of their time in Decatur\, and view some of their surviving work. \nEvent requirements\nFree. No registration required.
URL:https://www.maconccd.org/events/decaturs-first-photographers/
LOCATION:Rock Springs Nature Center\, 3939 Nearing Lane\, Decatur\, IL\, 62521\, United States
CATEGORIES:History Programs
ATTACH;FMTTYPE=image/webp:https://www.maconccd.org/wp-content/uploads/19.webp
END:VEVENT
END:VCALENDAR