BEGIN:VCALENDAR
VERSION:2.0
PRODID:-//Macon County Conservation District - ECPv6.15.20//NONSGML v1.0//EN
CALSCALE:GREGORIAN
METHOD:PUBLISH
X-WR-CALNAME:Macon County Conservation District
X-ORIGINAL-URL:https://www.maconccd.org
X-WR-CALDESC:Events for Macon County Conservation District
REFRESH-INTERVAL;VALUE=DURATION:PT1H
X-Robots-Tag:noindex
X-PUBLISHED-TTL:PT1H
BEGIN:VTIMEZONE
TZID:America/Chicago
BEGIN:DAYLIGHT
TZOFFSETFROM:-0600
TZOFFSETTO:-0500
TZNAME:CDT
DTSTART:20250309T080000
END:DAYLIGHT
BEGIN:STANDARD
TZOFFSETFROM:-0500
TZOFFSETTO:-0600
TZNAME:CST
DTSTART:20251102T070000
END:STANDARD
BEGIN:DAYLIGHT
TZOFFSETFROM:-0600
TZOFFSETTO:-0500
TZNAME:CDT
DTSTART:20260308T080000
END:DAYLIGHT
BEGIN:STANDARD
TZOFFSETFROM:-0500
TZOFFSETTO:-0600
TZNAME:CST
DTSTART:20261101T070000
END:STANDARD
BEGIN:DAYLIGHT
TZOFFSETFROM:-0600
TZOFFSETTO:-0500
TZNAME:CDT
DTSTART:20270314T080000
END:DAYLIGHT
BEGIN:STANDARD
TZOFFSETFROM:-0500
TZOFFSETTO:-0600
TZNAME:CST
DTSTART:20271107T070000
END:STANDARD
END:VTIMEZONE
BEGIN:VEVENT
DTSTART;TZID=America/Chicago:20260502T100000
DTEND;TZID=America/Chicago:20260502T100000
DTSTAMP:20260420T011505
CREATED:20260211T210009Z
LAST-MODIFIED:20260217T221022Z
UID:10001447-1777716000-1777716000@www.maconccd.org
SUMMARY:Saturday Stroll
DESCRIPTION:Event details\nVisit Rock Springs Nature Center to join a naturalist on a stroll along a trail. Come once or come every Saturday – nature is sure to show us something new each week! \nEvent requirements\nDress for the weather. Free. No registration required.
URL:https://www.maconccd.org/events/saturday-stroll/2026-05-02/
LOCATION:Rock Springs Conservation Area\, 3939 Nearing Lane\, Decatur\, IL\, 62521\, United States
CATEGORIES:Fun For The Family,Hikes & Walks
ATTACH;FMTTYPE=image/png:https://www.maconccd.org/wp-content/uploads/4_3.png
END:VEVENT
BEGIN:VEVENT
DTSTART;TZID=America/Chicago:20260502T100000
DTEND;TZID=America/Chicago:20260502T120000
DTSTAMP:20260420T011505
CREATED:20260211T201210Z
LAST-MODIFIED:20260217T223605Z
UID:10001433-1777716000-1777723200@www.maconccd.org
SUMMARY:Canoe Rodeo
DESCRIPTION:Event details\nHop in a canoe and try your luck on a mini obstacle course in the Bike Trail Pond! All equipment provided. A naturalist will be on-hand to give a paddling lesson and provide instructions. May the best boat win! \nEvent requirements\n$15/boat. Register online by May 1. \nRegister Online for this Event
URL:https://www.maconccd.org/events/canoe-rodeo/
LOCATION:Rock Springs Conservation Area\, 3939 Nearing Lane\, Decatur\, IL\, 62521\, United States
CATEGORIES:Fun For The Family,Hikes & Walks,Kid-Friendly
ATTACH;FMTTYPE=image/png:https://www.maconccd.org/wp-content/uploads/23_1.png
END:VEVENT
BEGIN:VEVENT
DTSTART;TZID=America/Chicago:20260503T140000
DTEND;TZID=America/Chicago:20260503T150000
DTSTAMP:20260420T011505
CREATED:20260211T201638Z
LAST-MODIFIED:20260217T223731Z
UID:10001434-1777816800-1777820400@www.maconccd.org
SUMMARY:Nature Picture Frames
DESCRIPTION:Event details\nMake your own nature picture frame to give to someone special or keep for yourself. We will first go outside to collect natural materials to decorate our frame\, then go inside to construct it. \nEvent requirements\n$5/person. Register online by May 1. \nRegister Online for this Event
URL:https://www.maconccd.org/events/nature-picture-frames/
LOCATION:Rock Springs Nature Center\, 3939 Nearing Lane\, Decatur\, IL\, 62521\, United States
CATEGORIES:Art & Music,Fun For The Family
ATTACH;FMTTYPE=image/png:https://www.maconccd.org/wp-content/uploads/24_1.png
END:VEVENT
END:VCALENDAR