BEGIN:VCALENDAR
VERSION:2.0
PRODID:-//Macon County Conservation District - ECPv6.15.20//NONSGML v1.0//EN
CALSCALE:GREGORIAN
METHOD:PUBLISH
X-ORIGINAL-URL:https://www.maconccd.org
X-WR-CALDESC:Events for Macon County Conservation District
REFRESH-INTERVAL;VALUE=DURATION:PT1H
X-Robots-Tag:noindex
X-PUBLISHED-TTL:PT1H
BEGIN:VTIMEZONE
TZID:America/Chicago
BEGIN:DAYLIGHT
TZOFFSETFROM:-0600
TZOFFSETTO:-0500
TZNAME:CDT
DTSTART:20250309T080000
END:DAYLIGHT
BEGIN:STANDARD
TZOFFSETFROM:-0500
TZOFFSETTO:-0600
TZNAME:CST
DTSTART:20251102T070000
END:STANDARD
BEGIN:DAYLIGHT
TZOFFSETFROM:-0600
TZOFFSETTO:-0500
TZNAME:CDT
DTSTART:20260308T080000
END:DAYLIGHT
BEGIN:STANDARD
TZOFFSETFROM:-0500
TZOFFSETTO:-0600
TZNAME:CST
DTSTART:20261101T070000
END:STANDARD
BEGIN:DAYLIGHT
TZOFFSETFROM:-0600
TZOFFSETTO:-0500
TZNAME:CDT
DTSTART:20270314T080000
END:DAYLIGHT
BEGIN:STANDARD
TZOFFSETFROM:-0500
TZOFFSETTO:-0600
TZNAME:CST
DTSTART:20271107T070000
END:STANDARD
END:VTIMEZONE
BEGIN:VEVENT
DTSTART;TZID=America/Chicago:20260423T160000
DTEND;TZID=America/Chicago:20260423T170000
DTSTAMP:20260420T025346
CREATED:20251030T195342Z
LAST-MODIFIED:20260302T143845Z
UID:10001387-1776960000-1776963600@www.maconccd.org
SUMMARY:Wilderness Walk
DESCRIPTION:Event details\nJoin a naturalist on a leisurely walk along a District trail to explore and learn a little something along the way. Dress for the weather. Hike will take place at Fort Daniel Conservation Area. \nEvent requirements\nFree. Register online by noon the day prior. \nRegister Online for this Event
URL:https://www.maconccd.org/events/wilderness-walk-fd/
LOCATION:Fort Daniel Conservation Area\, Fort Daniel Conservation Area\, Decatur\, IL\, United States
CATEGORIES:Fun For The Family,Hikes & Walks
ATTACH;FMTTYPE=image/png:https://www.maconccd.org/wp-content/uploads/7_2.png
END:VEVENT
BEGIN:VEVENT
DTSTART;TZID=America/Chicago:20260425T100000
DTEND;TZID=America/Chicago:20260425T100000
DTSTAMP:20260420T025346
CREATED:20260211T210009Z
LAST-MODIFIED:20260217T221022Z
UID:10001446-1777111200-1777111200@www.maconccd.org
SUMMARY:Saturday Stroll
DESCRIPTION:Event details\nVisit Rock Springs Nature Center to join a naturalist on a stroll along a trail. Come once or come every Saturday – nature is sure to show us something new each week! \nEvent requirements\nDress for the weather. Free. No registration required.
URL:https://www.maconccd.org/events/saturday-stroll/2026-04-25/
LOCATION:Rock Springs Conservation Area\, 3939 Nearing Lane\, Decatur\, IL\, 62521\, United States
CATEGORIES:Fun For The Family,Hikes & Walks
ATTACH;FMTTYPE=image/png:https://www.maconccd.org/wp-content/uploads/4_3.png
END:VEVENT
BEGIN:VEVENT
DTSTART;TZID=America/Chicago:20260425T120000
DTEND;TZID=America/Chicago:20260425T160000
DTSTAMP:20260420T025346
CREATED:20230210T181024Z
LAST-MODIFIED:20260309T140128Z
UID:10000343-1777118400-1777132800@www.maconccd.org
SUMMARY:Festival of Spring
DESCRIPTION:Celebrate Earth Day and welcome spring with a day of outdoor family activities. \nIn the morning\, observe bird banding\, go on a naturalist-led hike\, or pitch in at the Sangamon River Cleanup. Then\, in the afternoon enjoy wagon rides\, canoeing\, a live bird show from the Illinois Raptor Center\, tours of Homestead Prairie Farm\, and much more. Visit tables staffed by local community organizations to learn what they are doing to protect water and wildlife. \nCo-sponsored by the Decatur Area Audubon Society.\nCanoeing $3/person.\nAll other activities are free. No registration required. \nMore Information >
URL:https://www.maconccd.org/events/festival-of-spring-2026/
LOCATION:Rock Springs Conservation Area\, 3939 Nearing Lane\, Decatur\, IL\, 62521\, United States
CATEGORIES:Annual Events,Featured,Fun For The Family
ATTACH;FMTTYPE=image/png:https://www.maconccd.org/wp-content/uploads/FOS.png
END:VEVENT
END:VCALENDAR