BEGIN:VCALENDAR
VERSION:2.0
PRODID:-//Macon County Conservation District - ECPv6.15.20//NONSGML v1.0//EN
CALSCALE:GREGORIAN
METHOD:PUBLISH
X-WR-CALNAME:Macon County Conservation District
X-ORIGINAL-URL:https://www.maconccd.org
X-WR-CALDESC:Events for Macon County Conservation District
REFRESH-INTERVAL;VALUE=DURATION:PT1H
X-Robots-Tag:noindex
X-PUBLISHED-TTL:PT1H
BEGIN:VTIMEZONE
TZID:America/Chicago
BEGIN:DAYLIGHT
TZOFFSETFROM:-0600
TZOFFSETTO:-0500
TZNAME:CDT
DTSTART:20250309T080000
END:DAYLIGHT
BEGIN:STANDARD
TZOFFSETFROM:-0500
TZOFFSETTO:-0600
TZNAME:CST
DTSTART:20251102T070000
END:STANDARD
BEGIN:DAYLIGHT
TZOFFSETFROM:-0600
TZOFFSETTO:-0500
TZNAME:CDT
DTSTART:20260308T080000
END:DAYLIGHT
BEGIN:STANDARD
TZOFFSETFROM:-0500
TZOFFSETTO:-0600
TZNAME:CST
DTSTART:20261101T070000
END:STANDARD
BEGIN:DAYLIGHT
TZOFFSETFROM:-0600
TZOFFSETTO:-0500
TZNAME:CDT
DTSTART:20270314T080000
END:DAYLIGHT
BEGIN:STANDARD
TZOFFSETFROM:-0500
TZOFFSETTO:-0600
TZNAME:CST
DTSTART:20271107T070000
END:STANDARD
END:VTIMEZONE
BEGIN:VEVENT
DTSTART;TZID=America/Chicago:20260419T140000
DTEND;TZID=America/Chicago:20260419T150000
DTSTAMP:20260419T213043
CREATED:20250211T200549Z
LAST-MODIFIED:20260217T223130Z
UID:10000463-1776607200-1776610800@www.maconccd.org
SUMMARY:Wildflower Hike
DESCRIPTION:Event details\nSpring is the best time of year to spot early woodland flowers\, and Fort Daniel Conservation Area is full of them! Meet at the Fort Daniel pavilion. If the bluebells are blooming\, we’ll be in for a real treat. \nEvent requirements\nRegister online by April 17. \nFree. \nRegister Online for this Event
URL:https://www.maconccd.org/events/wildflower-hike/
LOCATION:Fort Daniel Conservation Area\, Fort Daniel Conservation Area\, Decatur\, IL\, United States
CATEGORIES:Fun For The Family,Hikes & Walks,Kid-Friendly
ATTACH;FMTTYPE=image/png:https://www.maconccd.org/wp-content/uploads/19_1.png
END:VEVENT
BEGIN:VEVENT
DTSTART;TZID=America/Chicago:20260418T100000
DTEND;TZID=America/Chicago:20260418T100000
DTSTAMP:20260419T213043
CREATED:20260211T210009Z
LAST-MODIFIED:20260217T221022Z
UID:10001445-1776506400-1776506400@www.maconccd.org
SUMMARY:Saturday Stroll
DESCRIPTION:Event details\nVisit Rock Springs Nature Center to join a naturalist on a stroll along a trail. Come once or come every Saturday – nature is sure to show us something new each week! \nEvent requirements\nDress for the weather. Free. No registration required.
URL:https://www.maconccd.org/events/saturday-stroll/2026-04-18/
LOCATION:Rock Springs Conservation Area\, 3939 Nearing Lane\, Decatur\, IL\, 62521\, United States
CATEGORIES:Fun For The Family,Hikes & Walks
ATTACH;FMTTYPE=image/png:https://www.maconccd.org/wp-content/uploads/4_3.png
END:VEVENT
BEGIN:VEVENT
DTSTART;TZID=America/Chicago:20260414T090000
DTEND;TZID=America/Chicago:20260414T180000
DTSTAMP:20260419T213043
CREATED:20260211T185742Z
LAST-MODIFIED:20260217T222614Z
UID:10001431-1776157200-1776189600@www.maconccd.org
SUMMARY:Van Trip to Havana\, IL
DESCRIPTION:Join us on a trip to the Havana area to visit two interesting sites! First\, we will stop at the Jake Wolf Memorial Fish Hatchery to tour this hatchery operated by the Illinois Department of Natural Resources. Then\, we will visit Emiquon National Wildlife Refuge to explore and do some bird watching. Be prepared to walk and spend time outdoors. We will stop for lunch along the way (lunch is not included). \n$45/person. Register online by April 10. \nRegister Online for this Event
URL:https://www.maconccd.org/events/van-trip-to-havana-il/
LOCATION:IL
CATEGORIES:Fun For The Family
ATTACH;FMTTYPE=image/png:https://www.maconccd.org/wp-content/uploads/15_1.png
END:VEVENT
BEGIN:VEVENT
DTSTART;TZID=America/Chicago:20260411T100000
DTEND;TZID=America/Chicago:20260411T100000
DTSTAMP:20260419T213043
CREATED:20260211T210009Z
LAST-MODIFIED:20260217T221022Z
UID:10001444-1775901600-1775901600@www.maconccd.org
SUMMARY:Saturday Stroll
DESCRIPTION:Event details\nVisit Rock Springs Nature Center to join a naturalist on a stroll along a trail. Come once or come every Saturday – nature is sure to show us something new each week! \nEvent requirements\nDress for the weather. Free. No registration required.
URL:https://www.maconccd.org/events/saturday-stroll/2026-04-11/
LOCATION:Rock Springs Conservation Area\, 3939 Nearing Lane\, Decatur\, IL\, 62521\, United States
CATEGORIES:Fun For The Family,Hikes & Walks
ATTACH;FMTTYPE=image/png:https://www.maconccd.org/wp-content/uploads/4_3.png
END:VEVENT
BEGIN:VEVENT
DTSTART;TZID=America/Chicago:20260404T100000
DTEND;TZID=America/Chicago:20260404T113000
DTSTAMP:20260419T213043
CREATED:20250211T192329Z
LAST-MODIFIED:20260217T222429Z
UID:10000461-1775296800-1775302200@www.maconccd.org
SUMMARY:Egg Hunt
DESCRIPTION:Event details\nFrom tiny\, bright blue eggs to expertly camouflaged speckled eggs\, birds lay a variety of different types of eggs. Learn about some of our local birds and the eggs they lay\, then go on a walk to hunt for hidden eggs! There will be a special prize for the person who finds the Golden Egg. Don’t forget to bring your basket! \nEvent requirements\nRegister online by April 2. \nFree  \nRegister Online for this Event
URL:https://www.maconccd.org/events/egg-hunt/
LOCATION:Rock Springs Nature Center\, 3939 Nearing Lane\, Decatur\, IL\, 62521\, United States
CATEGORIES:Fun For The Family,Kid-Friendly
ATTACH;FMTTYPE=image/png:https://www.maconccd.org/wp-content/uploads/13_1.png
END:VEVENT
BEGIN:VEVENT
DTSTART;TZID=America/Chicago:20260404T100000
DTEND;TZID=America/Chicago:20260404T100000
DTSTAMP:20260419T213043
CREATED:20260211T210009Z
LAST-MODIFIED:20260217T221022Z
UID:10001443-1775296800-1775296800@www.maconccd.org
SUMMARY:Saturday Stroll
DESCRIPTION:Event details\nVisit Rock Springs Nature Center to join a naturalist on a stroll along a trail. Come once or come every Saturday – nature is sure to show us something new each week! \nEvent requirements\nDress for the weather. Free. No registration required.
URL:https://www.maconccd.org/events/saturday-stroll/2026-04-04/
LOCATION:Rock Springs Conservation Area\, 3939 Nearing Lane\, Decatur\, IL\, 62521\, United States
CATEGORIES:Fun For The Family,Hikes & Walks
ATTACH;FMTTYPE=image/png:https://www.maconccd.org/wp-content/uploads/4_3.png
END:VEVENT
BEGIN:VEVENT
DTSTART;TZID=America/Chicago:20260402T160000
DTEND;TZID=America/Chicago:20260402T170000
DTSTAMP:20260419T213043
CREATED:20251030T194416Z
LAST-MODIFIED:20260302T143805Z
UID:10001386-1775145600-1775149200@www.maconccd.org
SUMMARY:Wilderness Walk
DESCRIPTION:Event details\nJoin a naturalist on a leisurely walk along a District trail to explore and learn a little something along the way. Hike will take place at Rock Springs Conservation Area. \nEvent requirements\nFree. Register online by noon the day prior. \nRegister Online for this Event
URL:https://www.maconccd.org/events/wilderness-walk-rs/
LOCATION:Rock Springs Nature Center\, 3939 Nearing Lane\, Decatur\, IL\, 62521\, United States
CATEGORIES:Fun For The Family,Hikes & Walks
ATTACH;FMTTYPE=image/png:https://www.maconccd.org/wp-content/uploads/7_2.png
END:VEVENT
BEGIN:VEVENT
DTSTART;TZID=America/Chicago:20260328T100000
DTEND;TZID=America/Chicago:20260328T100000
DTSTAMP:20260419T213043
CREATED:20260211T210009Z
LAST-MODIFIED:20260217T221022Z
UID:10001442-1774692000-1774692000@www.maconccd.org
SUMMARY:Saturday Stroll
DESCRIPTION:Event details\nVisit Rock Springs Nature Center to join a naturalist on a stroll along a trail. Come once or come every Saturday – nature is sure to show us something new each week! \nEvent requirements\nDress for the weather. Free. No registration required.
URL:https://www.maconccd.org/events/saturday-stroll/2026-03-28/
LOCATION:Rock Springs Conservation Area\, 3939 Nearing Lane\, Decatur\, IL\, 62521\, United States
CATEGORIES:Fun For The Family,Hikes & Walks
ATTACH;FMTTYPE=image/png:https://www.maconccd.org/wp-content/uploads/4_3.png
END:VEVENT
BEGIN:VEVENT
DTSTART;TZID=America/Chicago:20260326T080000
DTEND;TZID=America/Chicago:20260326T180000
DTSTAMP:20260419T213043
CREATED:20260211T185629Z
LAST-MODIFIED:20260217T222135Z
UID:10001430-1774512000-1774548000@www.maconccd.org
SUMMARY:Van Trip to Alton\, IL
DESCRIPTION:Hop in our van and head south to visit two unique spots in the Alton area. First\, we will visit the Lewis and Clark State Historic Site to learn about the expedition’s time spent at Camp River Dubois. Then\, we will venture to the National Great Rivers Museum to explore the impact the Mississippi River has had on our history and tour the lock and dam. We will stop for lunch along the way (lunch is not included). \n$45/person. Register online by March 24. \nRegister Online for this Event
URL:https://www.maconccd.org/events/van-trip-to-alton-il/
LOCATION:IL
CATEGORIES:Fun For The Family
ATTACH;FMTTYPE=image/png:https://www.maconccd.org/wp-content/uploads/11_4.png
END:VEVENT
BEGIN:VEVENT
DTSTART;TZID=America/Chicago:20260321T100000
DTEND;TZID=America/Chicago:20260321T100000
DTSTAMP:20260419T213043
CREATED:20260211T210009Z
LAST-MODIFIED:20260217T221022Z
UID:10001441-1774087200-1774087200@www.maconccd.org
SUMMARY:Saturday Stroll
DESCRIPTION:Event details\nVisit Rock Springs Nature Center to join a naturalist on a stroll along a trail. Come once or come every Saturday – nature is sure to show us something new each week! \nEvent requirements\nDress for the weather. Free. No registration required.
URL:https://www.maconccd.org/events/saturday-stroll/2026-03-21/
LOCATION:Rock Springs Conservation Area\, 3939 Nearing Lane\, Decatur\, IL\, 62521\, United States
CATEGORIES:Fun For The Family,Hikes & Walks
ATTACH;FMTTYPE=image/png:https://www.maconccd.org/wp-content/uploads/4_3.png
END:VEVENT
BEGIN:VEVENT
DTSTART;TZID=America/Chicago:20260314T100000
DTEND;TZID=America/Chicago:20260314T100000
DTSTAMP:20260419T213043
CREATED:20260211T210009Z
LAST-MODIFIED:20260217T221022Z
UID:10001440-1773482400-1773482400@www.maconccd.org
SUMMARY:Saturday Stroll
DESCRIPTION:Event details\nVisit Rock Springs Nature Center to join a naturalist on a stroll along a trail. Come once or come every Saturday – nature is sure to show us something new each week! \nEvent requirements\nDress for the weather. Free. No registration required.
URL:https://www.maconccd.org/events/saturday-stroll/2026-03-14/
LOCATION:Rock Springs Conservation Area\, 3939 Nearing Lane\, Decatur\, IL\, 62521\, United States
CATEGORIES:Fun For The Family,Hikes & Walks
ATTACH;FMTTYPE=image/png:https://www.maconccd.org/wp-content/uploads/4_3.png
END:VEVENT
BEGIN:VEVENT
DTSTART;TZID=America/Chicago:20260312T160000
DTEND;TZID=America/Chicago:20260312T170000
DTSTAMP:20260419T213043
CREATED:20260211T181636Z
LAST-MODIFIED:20260302T143707Z
UID:10001424-1773331200-1773334800@www.maconccd.org
SUMMARY:Wilderness Walk
DESCRIPTION:Event details\nJoin a naturalist on a leisurely walk along a District trail to explore and learn a little something along the way. Hike will take place at Friends Creek Conservation Area. \nEvent requirements\nFree. Register online by noon the day prior. \nRegister Online for this Event
URL:https://www.maconccd.org/events/wilderness-walk-fc/
LOCATION:Friends Creek Conservation Area\, 13734 Friends Creek Park Road\, Argenta\, IL\, 62501\, United States
CATEGORIES:Fun For The Family,Hikes & Walks
ATTACH;FMTTYPE=image/png:https://www.maconccd.org/wp-content/uploads/7_2.png
END:VEVENT
BEGIN:VEVENT
DTSTART;TZID=America/Chicago:20260307T100000
DTEND;TZID=America/Chicago:20260307T100000
DTSTAMP:20260419T213043
CREATED:20260211T210009Z
LAST-MODIFIED:20260217T221022Z
UID:10001439-1772877600-1772877600@www.maconccd.org
SUMMARY:Saturday Stroll
DESCRIPTION:Event details\nVisit Rock Springs Nature Center to join a naturalist on a stroll along a trail. Come once or come every Saturday – nature is sure to show us something new each week! \nEvent requirements\nDress for the weather. Free. No registration required.
URL:https://www.maconccd.org/events/saturday-stroll/2026-03-07/
LOCATION:Rock Springs Conservation Area\, 3939 Nearing Lane\, Decatur\, IL\, 62521\, United States
CATEGORIES:Fun For The Family,Hikes & Walks
ATTACH;FMTTYPE=image/png:https://www.maconccd.org/wp-content/uploads/4_3.png
END:VEVENT
BEGIN:VEVENT
DTSTART;TZID=America/Chicago:20260303T190000
DTEND;TZID=America/Chicago:20260303T200000
DTSTAMP:20260419T213043
CREATED:20260211T182705Z
LAST-MODIFIED:20260217T220306Z
UID:10001426-1772564400-1772568000@www.maconccd.org
SUMMARY:Worm Moon
DESCRIPTION:Event details\nJoin a naturalist to learn about the ‘worm’ moon\, do a craft\, and listen to a story. Then\, go outside to view the full moon through our telescope. \nEvent requirements\n$3/person. Register online by March 2. \nRegister Online for this Event
URL:https://www.maconccd.org/events/worm-moon/
LOCATION:Rock Springs Conservation Area\, 3939 Nearing Lane\, Decatur\, IL\, 62521\, United States
CATEGORIES:Fun For The Family
ATTACH;FMTTYPE=image/webp:https://www.maconccd.org/wp-content/uploads/website-event-photo-dims-2.webp
END:VEVENT
BEGIN:VEVENT
DTSTART;TZID=America/Chicago:20260228T080000
DTEND;TZID=America/Chicago:20260228T110000
DTSTAMP:20260419T213043
CREATED:20251030T193123Z
LAST-MODIFIED:20260203T163522Z
UID:10001385-1772265600-1772276400@www.maconccd.org
SUMMARY:60th Anniversary Pancake Breakfast
DESCRIPTION:Event details\nKick off our 60th anniversary celebration with a bit of nostalgia! Staff will be serving up all-you-can-eat pancakes\, sausage\, orange juice\, milk\, and coffee. Before or after breakfast\, enjoy an educational maple syrup program and tasting. Breakfast served between 8 and 11am. Maple syrup programs held at 8:30\, 9:30\, and 10:30am. \nEvent requirements\nTickets are available day-of\, but advance purchase is strongly encouraged to ensure availability. \n$10/person. \nBuy Your Tickets Today\n 
URL:https://www.maconccd.org/events/60th-anniversary-pancake-breakfast/
LOCATION:Rock Springs Nature Center\, 3939 Nearing Lane\, Decatur\, IL\, 62521\, United States
CATEGORIES:Featured,Fun For The Family
ATTACH;FMTTYPE=image/webp:https://www.maconccd.org/wp-content/uploads/8.webp
END:VEVENT
BEGIN:VEVENT
DTSTART;TZID=America/Chicago:20260219T160000
DTEND;TZID=America/Chicago:20260219T170000
DTSTAMP:20260419T213043
CREATED:20251030T195943Z
LAST-MODIFIED:20251031T140159Z
UID:10001389-1771516800-1771520400@www.maconccd.org
SUMMARY:Wilderness Walk
DESCRIPTION:Event details\nJoin a naturalist on a leisurely walk along a District trail to explore and learn a little something along the way. \nEvent requirements\nFree. Register online by noon the day prior. \nRegister Online for this Event
URL:https://www.maconccd.org/events/wilderness-walk-sc/
LOCATION:Sand Creek Conservation Area\, Sand Creek Open Space Reservation\, Decatur\, IL\, United States
CATEGORIES:Fun For The Family,Hikes & Walks
ATTACH;FMTTYPE=image/webp:https://www.maconccd.org/wp-content/uploads/9.webp
END:VEVENT
END:VCALENDAR